BEGIN:VCALENDAR
VERSION:2.0
PRODID:-//Hoffy Tours - ECPv6.2.2.1//NONSGML v1.0//EN
CALSCALE:GREGORIAN
METHOD:PUBLISH
X-ORIGINAL-URL:https://hoffytours.com
X-WR-CALDESC:Events for Hoffy Tours
REFRESH-INTERVAL;VALUE=DURATION:PT1H
X-Robots-Tag:noindex
X-PUBLISHED-TTL:PT1H
BEGIN:VTIMEZONE
TZID:America/Los_Angeles
BEGIN:DAYLIGHT
TZOFFSETFROM:-0800
TZOFFSETTO:-0700
TZNAME:PDT
DTSTART:20230312T100000
END:DAYLIGHT
BEGIN:STANDARD
TZOFFSETFROM:-0700
TZOFFSETTO:-0800
TZNAME:PST
DTSTART:20231105T090000
END:STANDARD
END:VTIMEZONE
BEGIN:VEVENT
DTSTART;TZID=America/Los_Angeles:20231212T123000
DTEND;TZID=America/Los_Angeles:20231212T203000
DTSTAMP:20260419T182458
CREATED:20230828T223136Z
LAST-MODIFIED:20230828T233203Z
UID:4570-1702384200-1702413000@hoffytours.com
SUMMARY:Holiday Treat
DESCRIPTION:Holiday Treat:\nRiverside’s Mission Inn\, Cheech Museum\, Festival of Lights\nTuesday\, December 12: 12:30 PM – 8:30 PM – $94/89 \nThis holiday treat includes a guided tour of the historic Mission Inn\, a visit to Riverside’s new “Cheech” Marin Museum of Chicano Art and free time to experience the Festival of Lights\n\nTOUR DEPARTS FROM FESTIVAL OF ARTS GROUNDS\, 650 LAGUNA CANYON RD.\n(Parking available across the street in Lot 11 for $4 a day)\nBUY TICKETS \n  \n 
URL:https://hoffytours.com/event/holiday-treat/
LOCATION:Festival of Arts  650 Laguna Canyon Rd.\, 650 Laguna Canyon Rd\, LAGUNA BEACH\, CA\, 92651\, United States
ATTACH;FMTTYPE=image/jpeg:https://hoffytours.com/wp-content/uploads/sites/86/2023/08/IMG_3574.jpg
ORGANIZER;CN="Bill Hoffman":MAILTO:hoffdog@cox.net
END:VEVENT
END:VCALENDAR