BEGIN:VCALENDAR
VERSION:2.0
PRODID:-//Hoffy Tours - ECPv6.2.2.1//NONSGML v1.0//EN
CALSCALE:GREGORIAN
METHOD:PUBLISH
X-WR-CALNAME:Hoffy Tours
X-ORIGINAL-URL:https://hoffytours.com
X-WR-CALDESC:Events for Hoffy Tours
REFRESH-INTERVAL;VALUE=DURATION:PT1H
X-Robots-Tag:noindex
X-PUBLISHED-TTL:PT1H
BEGIN:VTIMEZONE
TZID:America/Los_Angeles
BEGIN:DAYLIGHT
TZOFFSETFROM:-0800
TZOFFSETTO:-0700
TZNAME:PDT
DTSTART:20240310T100000
END:DAYLIGHT
BEGIN:STANDARD
TZOFFSETFROM:-0700
TZOFFSETTO:-0800
TZNAME:PST
DTSTART:20241103T090000
END:STANDARD
END:VTIMEZONE
BEGIN:VEVENT
DTSTART;TZID=America/Los_Angeles:20240203T093000
DTEND;TZID=America/Los_Angeles:20240203T174500
DTSTAMP:20260419T151328
CREATED:20231221T183825Z
LAST-MODIFIED:20231221T184441Z
UID:4608-1706952600-1706982300@hoffytours.com
SUMMARY:Warner Brothers Studio & the Autry Museum of the American West
DESCRIPTION:MOVIES and COWBOYS\nWarner Brothers Studio & the Autry Museum of the American West\n\nSaturday\, February 3: 8:00 AM – 5:45 PM- $159/154* \n \n\nThis tour combines the LA area’s best studio tour with a wonderful museum dedicated to telling the stories and history of the American West. We’ll spend the morning enjoying a 2.5 hour tour of Warner Brothers Studios\, seeing sound stages\, movie and TV sets\, prop rooms\, and interactive exhibits. The tour guides are wonderful\, and we’ll be whisked all over the massive studio on open-air carts. We’ll explore back lots\, the Batcave\, DC Universe\, the Wizarding World of Harry Potter\, Game of Thrones exhibit\, and the set of the Big Bang Theory. Since February is close to Oscars Season\, the studio will likely have costumes from the hit movie – Barbie! For lunch we’ll enjoy an included picnic adjacent to the Autry Museum of the American West in Griffith Park. At the museum\, you’ll enjoy 2 hours to explore the many exhibits including Art of the American West\, Cowboy Gallery\, and California Road Trip. The museum also documents the history of the native peoples of California including the forthcoming exhibition – Reclaiming El Camino: Native Resistance in the Missions and Beyond.\n  \n\n\n\n* This is a pricier tour than normal. Studio tours are rather expensive\, but offer a rare chance to see firsthand how movie magic is made. Having been on the tour several times\, I highly recommend it. The tour price includes entry into both Warner Brothers Studios and the Autry.\n\n\nTOUR DEPARTS FROM FESTIVAL OF ARTS\, 650 LAGUNA CANYON RD.\, LB 92651 PLUS A STOP AT LAGUNA HILLS MALL PARKING LOT AT CARLOTA AVE.\nBUY TICKETS \n  \n 
URL:https://hoffytours.com/event/warner-brothers-studio-the-autry-museum-of-the-american-west/
LOCATION:Festival of Arts  650 Laguna Canyon Rd.\, 650 Laguna Canyon Rd\, LAGUNA BEACH\, CA\, 92651\, United States
ATTACH;FMTTYPE=image/jpeg:https://hoffytours.com/wp-content/uploads/sites/86/2023/12/Image-12-21-23-at-10.35.jpg
ORGANIZER;CN="Bill Hoffman":MAILTO:hoffdog@cox.net
END:VEVENT
END:VCALENDAR