BEGIN:VCALENDAR
VERSION:2.0
PRODID:-//Hoffy Tours - ECPv6.2.2.1//NONSGML v1.0//EN
CALSCALE:GREGORIAN
METHOD:PUBLISH
X-WR-CALNAME:Hoffy Tours
X-ORIGINAL-URL:https://hoffytours.com
X-WR-CALDESC:Events for Hoffy Tours
REFRESH-INTERVAL;VALUE=DURATION:PT1H
X-Robots-Tag:noindex
X-PUBLISHED-TTL:PT1H
BEGIN:VTIMEZONE
TZID:America/Los_Angeles
BEGIN:DAYLIGHT
TZOFFSETFROM:-0800
TZOFFSETTO:-0700
TZNAME:PDT
DTSTART:20240310T100000
END:DAYLIGHT
BEGIN:STANDARD
TZOFFSETFROM:-0700
TZOFFSETTO:-0800
TZNAME:PST
DTSTART:20241103T090000
END:STANDARD
END:VTIMEZONE
BEGIN:VEVENT
DTSTART;TZID=America/Los_Angeles:20240402T091500
DTEND;TZID=America/Los_Angeles:20240402T153000
DTSTAMP:20260419T152156
CREATED:20231221T185604Z
LAST-MODIFIED:20240224T043547Z
UID:4644-1712049300-1712071800@hoffytours.com
SUMMARY:WATER\, TAMALES & BIRDS
DESCRIPTION:WATER\, TAMALES & BIRDS\nOC Water District\, Mercado Gonzalez\, San Joaquin Marsh\n“Follow the Water”\n\nTuesday\, April 2: 9:15 AM – 3:30 PM – $72/67 Tour limited to 30 guests\n  \n\nThis tour combines the “Big Three” – education\, food and nature. We’ll start out at a world leader in ground water replenishment – the Orange County Water District. We’ll do a 90-minute tour of this impressive $1 billion facility\, seeing first hand how sewer water is treated through reverse osmosis\, UV light and micro-filters to be pumped back into the groundwater table. The infrastructure equipment is amazing to see first hand. You’ll receive a “swag” bag at the end and have a chance to drink the treated water (“from toilet to tap”). I did and am still alive! Beaming with pride that our County is on the cutting edge in water treatment\, we’ll move on to a delicious lunch at the Mercado Hidalgo – the largest Mexican food hall I’ve seen north of the border. The place is brimming with pride and great products. Hoffy will give you some Spanish lessons and a map\, and you’ll be on you own to buy tortillas\, sip tequila\, try some “tacos de birria”\, and savor some delicious churros. Honestly\, the food is top- shelf and deliciosa\, and the colorful signs and merchandise enhance the experience. On the way home\, we’ll stop at the wonderful Sea and Sage Audubon Center in the San Joaquin Marsh by for a bird walk\, talk and tour. Bring a sun hat and binoculars.\n\n\nTOUR LEAVES FROM FESTIVAL OF ARTS (parking across the street) AND LAGUNA HILLS MALL\nBUY TICKETS
URL:https://hoffytours.com/event/water-tamales-birds/
LOCATION:Festival of Arts  650 Laguna Canyon Rd.\, 650 Laguna Canyon Rd\, LAGUNA BEACH\, CA\, 92651\, United States
ATTACH;FMTTYPE=image/jpeg:https://hoffytours.com/wp-content/uploads/sites/86/2023/12/9064a656-e4d1-4bc2-9159-6090e205707d.jpg
ORGANIZER;CN="Bill Hoffman":MAILTO:hoffdog@cox.net
END:VEVENT
END:VCALENDAR