BEGIN:VCALENDAR
VERSION:2.0
PRODID:-//Hoffy Tours - ECPv6.2.2.1//NONSGML v1.0//EN
CALSCALE:GREGORIAN
METHOD:PUBLISH
X-ORIGINAL-URL:https://hoffytours.com
X-WR-CALDESC:Events for Hoffy Tours
REFRESH-INTERVAL;VALUE=DURATION:PT1H
X-Robots-Tag:noindex
X-PUBLISHED-TTL:PT1H
BEGIN:VTIMEZONE
TZID:America/Los_Angeles
BEGIN:DAYLIGHT
TZOFFSETFROM:-0800
TZOFFSETTO:-0700
TZNAME:PDT
DTSTART:20240310T100000
END:DAYLIGHT
BEGIN:STANDARD
TZOFFSETFROM:-0700
TZOFFSETTO:-0800
TZNAME:PST
DTSTART:20241103T090000
END:STANDARD
END:VTIMEZONE
BEGIN:VEVENT
DTSTART;TZID=America/Los_Angeles:20240430T070000
DTEND;TZID=America/Los_Angeles:20240430T180000
DTSTAMP:20260419T224634
CREATED:20240203T015235Z
LAST-MODIFIED:20240425T231135Z
UID:4661-1714460400-1714500000@hoffytours.com
SUMMARY:JOSHUA TREE NATIONAL PARK
DESCRIPTION:“See the beauty of our closest national park in one fun-filled day”\nApril 30\, 2024: 7:00 AM – 6:00 PM – $98/103\nIncludes picnic lunch; stop at Hadley’s Fruit Orchard\n  \n \n\n\n  \nSit back in comfort and take in the beautiful vistas of Joshua Tree National Park.\nWe’ve picked the most beautiful stops inside the park for nature walks\, photos and\, of course\, a picnic. We’ll marvel at desert flowers\, cacti\, the amazing Wonderland of Rocks\, and the iconic Joshua Trees (actually\, not trees but a variety of yucca). You’ll learn lots about protecting the flora and fauna of this fragile ecosystem. It is a long bus ride\, but there’s lots of scenery\, trivia quizzes\, food and drink along the way. Here’s the itinerary: \n  \n \n  \nSTOP AT OASIS VISITORS’ CENTER (and Mara Palm Oasis)\nPHOTO STOP AT SKULL ROCK\nSCENIC OVERLOOK AT KEY’S VIEW – scenic overlook at 5000 ‘ elevation\nPICNIC LUNCH AND GUIDED HIKE AT HIDDEN VALLEY – the most beautiful loop trail in the park!\nWILDFLOWER LOOP AT CAP ROCK – get your cameras ready\nSTOP AT HADLEY’S FRUIT ORCHARD – date shakes and shopping! \n\n  \n\n\n\n* This is a pricier tour than normal. Studio tours are rather expensive\, but offer a rare chance to see firsthand how movie magic is made. Having been on the tour several times\, I highly recommend it. The tour price includes entry into both Warner Brothers Studios and the Autry.\n\n\n  \nTour departs from the Festival of Arts\, 650 Laguna Canyon Road and Laguna Hills Mall\, 24001 Via de la Carlota. \nSOLD OUT \n  \n 
URL:https://hoffytours.com/event/joshua-tree-national-park/
LOCATION:Festival of Arts  650 Laguna Canyon Rd.\, 650 Laguna Canyon Rd\, LAGUNA BEACH\, CA\, 92651\, United States
ATTACH;FMTTYPE=image/jpeg:https://hoffytours.com/wp-content/uploads/sites/86/2024/02/53375709-d012-45a8-b79f-af7caf4a5599.jpg
ORGANIZER;CN="Bill Hoffman":MAILTO:hoffdog@cox.net
END:VEVENT
END:VCALENDAR