BEGIN:VCALENDAR
VERSION:2.0
PRODID:-//Hoffy Tours - ECPv6.2.2.1//NONSGML v1.0//EN
CALSCALE:GREGORIAN
METHOD:PUBLISH
X-ORIGINAL-URL:https://hoffytours.com
X-WR-CALDESC:Events for Hoffy Tours
REFRESH-INTERVAL;VALUE=DURATION:PT1H
X-Robots-Tag:noindex
X-PUBLISHED-TTL:PT1H
BEGIN:VTIMEZONE
TZID:America/Los_Angeles
BEGIN:DAYLIGHT
TZOFFSETFROM:-0800
TZOFFSETTO:-0700
TZNAME:PDT
DTSTART:20240310T100000
END:DAYLIGHT
BEGIN:STANDARD
TZOFFSETFROM:-0700
TZOFFSETTO:-0800
TZNAME:PST
DTSTART:20241103T090000
END:STANDARD
END:VTIMEZONE
BEGIN:VEVENT
DTSTART;TZID=America/Los_Angeles:20240530T090000
DTEND;TZID=America/Los_Angeles:20240530T170000
DTSTAMP:20260420T091244
CREATED:20240224T172259Z
LAST-MODIFIED:20240425T230833Z
UID:4777-1717059600-1717088400@hoffytours.com
SUMMARY:PASADENA CRAFTSMAN CLASSIC
DESCRIPTION:Gamble House\, Norton Simon Art Museum\, Old Town Pasadena (lunch on your own) \nThursday\, May 30: 9:00 AM – 5:00 PM – $92/97\n  \nConsider this tour the one-two punch of Pasadena’s world-class art and architecture. We’ll start the day with a docent-led tour of the famous craftsman Gamble House (1908)\, the crowning achievement of Henry and Charles Greene and a National Historic Landmark. The entire house is a work of fine art\, and the architects designed all the furniture\, light fixtures\, rugs\, and leaded windows. Lunch time will find us in nearby Old Pasadena for lunch on your own. Hoffy will provide a restaurant map showing you over 20 choices from modest to fancy fare. Old Town was way ahead of its time in creating a walkable town center with historic architecture and public art. The afternoon will find us in the Norton Simon Museum with one of the most remarkable private art collections in the world. The art includes European masterworks from the Renaissance to the 20th century\, including works from artists such as Rembrandt\, Degas\, Goya\, Picasso and Van Gough. In addition\, the Museum has a collection of South and Southeast Asian art that spans 2000 years! \n  \n \n  \nTOUR DEPARTS FROM FESTIVAL OF ARTS 650 LAGUNA CANYON ROAD AND LAGUNA HILLS MALL AT 24001 VIA DE LA CARLOTA (near King’s Fish Co. Restaurant) \nSOLD OUT \n  \n 
URL:https://hoffytours.com/event/pasadena-craftsman-classic/
LOCATION:Festival of Arts  650 Laguna Canyon Rd.\, 650 Laguna Canyon Rd\, LAGUNA BEACH\, CA\, 92651\, United States
ATTACH;FMTTYPE=image/jpeg:https://hoffytours.com/wp-content/uploads/sites/86/2024/02/pasadena5.jpeg
ORGANIZER;CN="Bill Hoffman":MAILTO:hoffdog@cox.net
END:VEVENT
END:VCALENDAR