BEGIN:VCALENDAR
VERSION:2.0
PRODID:-//Hoffy Tours - ECPv6.2.2.1//NONSGML v1.0//EN
CALSCALE:GREGORIAN
METHOD:PUBLISH
X-ORIGINAL-URL:https://hoffytours.com
X-WR-CALDESC:Events for Hoffy Tours
REFRESH-INTERVAL;VALUE=DURATION:PT1H
X-Robots-Tag:noindex
X-PUBLISHED-TTL:PT1H
BEGIN:VTIMEZONE
TZID:America/Los_Angeles
BEGIN:DAYLIGHT
TZOFFSETFROM:-0800
TZOFFSETTO:-0700
TZNAME:PDT
DTSTART:20250309T100000
END:DAYLIGHT
BEGIN:STANDARD
TZOFFSETFROM:-0700
TZOFFSETTO:-0800
TZNAME:PST
DTSTART:20251102T090000
END:STANDARD
END:VTIMEZONE
BEGIN:VEVENT
DTSTART;TZID=America/Los_Angeles:20250604T084500
DTEND;TZID=America/Los_Angeles:20250604T164500
DTSTAMP:20260420T015537
CREATED:20250402T223557Z
LAST-MODIFIED:20250403T183317Z
UID:5331-1749026700-1749055500@hoffytours.com
SUMMARY:Masters of Wood & Clay
DESCRIPTION:MASTERS IN WOOD AND CLAY\nSam Maloof Foundation and the American Museum of Ceramic Art with lunch at Claremont Village\nWednesday\, June 4: 8:45 AM – 4:45 PM: $99/94\n\n\n\n\n\nThis tour features American craftsmanship and art in two great venues\, one in Alta Loma\, the other in Pomona. Our first stop will be a tour of the historic home of master furniture maker Sam Maloof\, nestled at the base of the San Gabriel Mountains. We’ll enjoy a docent-lead tour of his home and workshop and have time to explore the exhibition center and gardens. The two exhibitions should be great: 1) Printed & Stitched – featuring 58 original artworks created by members of the California Society of Printmakers and Studio Art Quilt Associates: and 2) Handwork: Crafting the Counter Culture by famed wood-working artist Garry Knox Bennett and New-Mexico-based feather artist Nicki Marx.\n\nFor lunch\, we’ll visit nearby Claremont Village – a wonderful compact downtown with excellent restaurants and shopping. Hoffy will provide you with a restaurant map and guide. For music enthusiasts\, we’ll enjoy a visit to the legacy business – Claremont Folk Music Center. After lunch (you may never want to leave this delightful downtown)\, we’ll have a tour of another gem – the American Museum of Ceramic Art in Pomona. This museum has the largest collection of ceramic art on the West Coast and has a wonderful variety of pieces. In addition to the regular collection\, the two special exhibits are Hot and Ready to Serve! – Functional Ceramics and Making In-Between: Indigenous Americans.\n\n\n\n\n\n\n\n\n\n\nSIGN UP
URL:https://hoffytours.com/event/masters-of-wood-clay/
LOCATION:Festival of Arts  650 Laguna Canyon Rd.\, 650 Laguna Canyon Rd\, LAGUNA BEACH\, CA\, 92651\, United States
ATTACH;FMTTYPE=image/jpeg:https://hoffytours.com/wp-content/uploads/sites/86/2025/04/IMG_9256.jpeg
ORGANIZER;CN="Bill Hoffman":MAILTO:hoffdog@cox.net
END:VEVENT
END:VCALENDAR