BEGIN:VCALENDAR
VERSION:2.0
PRODID:-//Hoffy Tours - ECPv6.2.2.1//NONSGML v1.0//EN
CALSCALE:GREGORIAN
METHOD:PUBLISH
X-ORIGINAL-URL:https://hoffytours.com
X-WR-CALDESC:Events for Hoffy Tours
REFRESH-INTERVAL;VALUE=DURATION:PT1H
X-Robots-Tag:noindex
X-PUBLISHED-TTL:PT1H
BEGIN:VTIMEZONE
TZID:America/Los_Angeles
BEGIN:DAYLIGHT
TZOFFSETFROM:-0800
TZOFFSETTO:-0700
TZNAME:PDT
DTSTART:20250309T100000
END:DAYLIGHT
BEGIN:STANDARD
TZOFFSETFROM:-0700
TZOFFSETTO:-0800
TZNAME:PST
DTSTART:20251102T090000
END:STANDARD
END:VTIMEZONE
BEGIN:VEVENT
DTSTART;TZID=America/Los_Angeles:20250625T093000
DTEND;TZID=America/Los_Angeles:20250625T163000
DTSTAMP:20260420T000727
CREATED:20250528T222240Z
LAST-MODIFIED:20250528T222517Z
UID:5409-1750843800-1750869000@hoffytours.com
SUMMARY:FARM TO TABLE
DESCRIPTION:The Ecology Center (SJC) and Tanaka Farms (Irvine)\n“Walk the farm fields and pick your own produce!”\nJune 25: 9:30 AM – 4:30 PM – $84/89\n  \n\n\n\n\n\n\nWe’re going back to the Farms! This tour gets us in touch with the earth and where our food comes from. We’ll start at the bustlin’ Ecology Center in San Juan Capistrano for a 45-minute\, guided walk through the farm fields where over 60 varieties of fruits and vegetables are grown. The Center is a certified\, regenerative organic farm\, and you’ll learn how its community programs are educating and training people for a more sustainable lifestyle. After the tour\, you’ll have a chance to explore the Ecology Center’s beautiful campus – its Campesino Cafe\, Farm Stand\, greenhouses\, and Community Table. Lunch will find us at Irvine’s Tanaka Farms where you’ll enjoy an included picnic lunch\, a narrated tractor ride through the 30-acre farm\, stops to pick your own produce\, and time to visit with the animals at the barnyard. Both venues take a different approach to bringing people closer to the food they eat: whereas The Ecology Center is certified organic farm\, Tanaka Farms uses the “agri-tourism” approach. It will be fun to experience both.\n\n\nWear a sun hat\, bring sun screen and wear comfortable shoes. We’ll be in the fields and on a tractor for a fun experience in urban agriculture.  This tour has a moderate amount of walking.\n\n\nTOUR DEPARTS FROM LAGUNA BEACH SCHOOL DISTRICT PARKING LOT\, 550 BLUMONT ST.\, AND LAGUNA HILLS MALL PARKING LOT\, 24001 AVENIDA DE LA CARLOTA.\n(Tour limited to 35 guests; picnic lunch included)\n\n\n\n\n\n\n\n\nSIGN UP
URL:https://hoffytours.com/event/farm-to-table/
LOCATION:Laguna Beach School District Parking Lot\, 550 Blumont St\, LAGUNA BEACH\, CA\, 92651-2038\, United States
ATTACH;FMTTYPE=image/jpeg:https://hoffytours.com/wp-content/uploads/sites/86/2025/05/IMG_1712.jpeg
ORGANIZER;CN="Bill Hoffman":MAILTO:hoffdog@cox.net
END:VEVENT
END:VCALENDAR