BEGIN:VCALENDAR
VERSION:2.0
PRODID:-//Hoffy Tours - ECPv6.2.2.1//NONSGML v1.0//EN
CALSCALE:GREGORIAN
METHOD:PUBLISH
X-WR-CALNAME:Hoffy Tours
X-ORIGINAL-URL:https://hoffytours.com
X-WR-CALDESC:Events for Hoffy Tours
REFRESH-INTERVAL;VALUE=DURATION:PT1H
X-Robots-Tag:noindex
X-PUBLISHED-TTL:PT1H
BEGIN:VTIMEZONE
TZID:America/Los_Angeles
BEGIN:DAYLIGHT
TZOFFSETFROM:-0800
TZOFFSETTO:-0700
TZNAME:PDT
DTSTART:20240310T100000
END:DAYLIGHT
BEGIN:STANDARD
TZOFFSETFROM:-0700
TZOFFSETTO:-0800
TZNAME:PST
DTSTART:20241103T090000
END:STANDARD
END:VTIMEZONE
BEGIN:VEVENT
DTSTART;TZID=America/Los_Angeles:20240919T080000
DTEND;TZID=America/Los_Angeles:20240919T170000
DTSTAMP:20260420T173313
CREATED:20240813T190413Z
LAST-MODIFIED:20240823T201730Z
UID:5155-1726732800-1726765200@hoffytours.com
SUMMARY:SAN DIEGO ADVENTURES
DESCRIPTION:SAN DIEGO ADVENTURES\nCabrillo National Monument\, Liberty Station Public Market\, USS Midway Museum\nSept. 19: 8:00 AM – 5:00 PM – $95/99\n\nSeptember is a great month to visit San Diego\, and this tour combines some venues we haven’t explored in a while. First\, we’ll visit the dramatic Cabrillo National Monument at the end of Point Loma. There are only 19 National Monuments in California\, and this one offers expansive views of San Diego Harbor. You’ll learn why there are more places in California named after Juan Cabrillo than any other person. You’ll also have time to enjoy the film on this famous explorer as well as visiting the lighthouse and numerous history and nature exhibits.\n\nLunchtime will find us at wonderful Liberty Station – a beautiful 1920s Naval Training Center that has been transformed into a hub of restaurants\, art galleries and museums. We have lunch at Liberty Public Market – a rockin’ food hall with over 15 great food choices. Stone Brew Company is also next door for those who love craft beer. After eating\, we’ll have a tour of the Liberty Station Arts District to meet several artists in their galleries.\n\nWe’ll top off the afternoon at San Diego’s top attraction – USS Midway Museum\, the US’ longest-serving aircraft carrier. You’ll stroll the flight deck\, see many of the aircraft that defended our country and talk to the veterans who flew these planes. A top activity is to see the 20-minute movie – “Voices of Midway”. The views of the San Diego skyline and harbor are beautiful and you won’t forget his memorable visit.\n\nA day of exploring the beauty and history of America’s finest city\n\nTOUR LEAVES FROM THE FESTIVAL OF THE ARTS AND LAGUNA HILLS MALL\n\n\nSIGN UP
URL:https://hoffytours.com/event/san-diego-adventures/
LOCATION:Festival of Arts  650 Laguna Canyon Rd.\, 650 Laguna Canyon Rd\, LAGUNA BEACH\, CA\, 92651\, United States
ATTACH;FMTTYPE=image/jpeg:https://hoffytours.com/wp-content/uploads/sites/86/2024/08/EB6AA64B-D969-40AD-9645-3F59CD8290AA.jpeg
ORGANIZER;CN="Bill Hoffman":MAILTO:hoffdog@cox.net
END:VEVENT
END:VCALENDAR