BEGIN:VCALENDAR
VERSION:2.0
PRODID:-//Hoffy Tours - ECPv6.2.2.1//NONSGML v1.0//EN
CALSCALE:GREGORIAN
METHOD:PUBLISH
X-WR-CALNAME:Hoffy Tours
X-ORIGINAL-URL:https://hoffytours.com
X-WR-CALDESC:Events for Hoffy Tours
REFRESH-INTERVAL;VALUE=DURATION:PT1H
X-Robots-Tag:noindex
X-PUBLISHED-TTL:PT1H
BEGIN:VTIMEZONE
TZID:America/Los_Angeles
BEGIN:DAYLIGHT
TZOFFSETFROM:-0800
TZOFFSETTO:-0700
TZNAME:PDT
DTSTART:20240310T100000
END:DAYLIGHT
BEGIN:STANDARD
TZOFFSETFROM:-0700
TZOFFSETTO:-0800
TZNAME:PST
DTSTART:20241103T090000
END:STANDARD
END:VTIMEZONE
BEGIN:VEVENT
DTSTART;TZID=America/Los_Angeles:20241030T130000
DTEND;TZID=America/Los_Angeles:20241030T170000
DTSTAMP:20260420T173959
CREATED:20240912T190418Z
LAST-MODIFIED:20240912T191033Z
UID:5190-1730293200-1730307600@hoffytours.com
SUMMARY:MERCADO GONZALEZ
DESCRIPTION:MERCADO GONZALEZ\nA Celebration of Mexican Cuisine and El Dia de los Muertos\nOct. 30: 1:00 PM – 5:00 PM – $55\n\n\n\nHoffy Tours has a special date with the owners of Mercado Gonzalez – the 70\,000 square foot\, first-of-its-kind Mexican food hall!!! The Gonzalez Family will give us a private tour of their amazing market that’s catching Orange County by storm. Joshua and Yvette Gonzalez will guide us through five stations throughout the market explaining the cuisine\, the art and the history. We’ll sample food as we go and you’ll have plenty of time to ask questions and learn about the important holiday – Dia de los Muertos. The Mercado will be decorated with “calaveras” (skulls)\, “ofrendas” (altars remembering those who have passed away)\, and plenty of marigolds (“cempasuchils”).\n\n\n \nFollowing the guided tour\, you’ll be given a map and Mercado Food Guide so you can explore the Mercado on your own. You’ll learn lots of Spanish and stimulate your taste buds. And Hoffy will sing “La Bamba” on the bus. Song sheets included!\n\n\n\n \nSPECIAL NOTE: One of the pleasures of running a small tour company is exploring fun venues and supporting local businesses. I must say that the Gonzalez family\, with their pride of ownership\, attention to detail and outstanding customer and employee relations\, is a role model for the business community. The family owns 43 Northgate supermarkets throughout Southern California.\n\n\n \nTour leaves from the Festival of Arts\, 650 Laguna Canyon Rd.; parking across the street in Lot 11 ($4 all day; free with resident Shopper’s Sticker)\n\n\nSIGN UP
URL:https://hoffytours.com/event/mercado-gonzalez/
LOCATION:Festival of Arts  650 Laguna Canyon Rd.\, 650 Laguna Canyon Rd\, LAGUNA BEACH\, CA\, 92651\, United States
ATTACH;FMTTYPE=image/jpeg:https://hoffytours.com/wp-content/uploads/sites/86/2024/09/IMG_3222.jpg
ORGANIZER;CN="Bill Hoffman":MAILTO:hoffdog@cox.net
END:VEVENT
END:VCALENDAR